BEGIN:VCALENDAR
VERSION:2.0
PRODID:-//Die H&uuml;ngheimer - ECPv6.15.20//NONSGML v1.0//EN
CALSCALE:GREGORIAN
METHOD:PUBLISH
X-ORIGINAL-URL:https://die-huengheimer.de
X-WR-CALDESC:Veranstaltungen für Die H&uuml;ngheimer
REFRESH-INTERVAL;VALUE=DURATION:PT1H
X-Robots-Tag:noindex
X-PUBLISHED-TTL:PT1H
BEGIN:VTIMEZONE
TZID:Europe/Berlin
BEGIN:DAYLIGHT
TZOFFSETFROM:+0100
TZOFFSETTO:+0200
TZNAME:CEST
DTSTART:20250330T010000
END:DAYLIGHT
BEGIN:STANDARD
TZOFFSETFROM:+0200
TZOFFSETTO:+0100
TZNAME:CET
DTSTART:20251026T010000
END:STANDARD
BEGIN:DAYLIGHT
TZOFFSETFROM:+0100
TZOFFSETTO:+0200
TZNAME:CEST
DTSTART:20260329T010000
END:DAYLIGHT
BEGIN:STANDARD
TZOFFSETFROM:+0200
TZOFFSETTO:+0100
TZNAME:CET
DTSTART:20261025T010000
END:STANDARD
BEGIN:DAYLIGHT
TZOFFSETFROM:+0100
TZOFFSETTO:+0200
TZNAME:CEST
DTSTART:20270328T010000
END:DAYLIGHT
BEGIN:STANDARD
TZOFFSETFROM:+0200
TZOFFSETTO:+0100
TZNAME:CET
DTSTART:20271031T010000
END:STANDARD
END:VTIMEZONE
BEGIN:VEVENT
DTSTART;TZID=Europe/Berlin:20260425T193000
DTEND;TZID=Europe/Berlin:20260425T210000
DTSTAMP:20260421T123201
CREATED:20260202T113611Z
LAST-MODIFIED:20260202T113611Z
UID:534-1777145400-1777150800@die-huengheimer.de
SUMMARY:Maibaumstellen Hüngheim
DESCRIPTION:Veranstaltungsort: Vereinshalle
URL:https://die-huengheimer.de/termin/maibaumstellen-huengheim/
END:VEVENT
BEGIN:VEVENT
DTSTART;TZID=Europe/Berlin:20260604T100000
DTEND;TZID=Europe/Berlin:20260604T160000
DTSTAMP:20260421T123201
CREATED:20260202T113611Z
LAST-MODIFIED:20260202T113611Z
UID:535-1780567200-1780588800@die-huengheimer.de
SUMMARY:Pfarrfest Hungen
DESCRIPTION:Veranstaltungsort: Pfarrwiese
URL:https://die-huengheimer.de/termin/pfarrfest-hungen/
END:VEVENT
BEGIN:VEVENT
DTSTART;TZID=Europe/Berlin:20260620T200000
DTEND;TZID=Europe/Berlin:20260620T235900
DTSTAMP:20260421T123201
CREATED:20260202T113612Z
LAST-MODIFIED:20260202T125443Z
UID:536-1781985600-1781999940@die-huengheimer.de
SUMMARY:150 Jahre Feuerwehr Schneeberg
DESCRIPTION:Veranstaltungsort: Feuerwehrhaus
URL:https://die-huengheimer.de/termin/150-jahre-feuerwehr-schneeberg/
END:VEVENT
BEGIN:VEVENT
DTSTART;TZID=Europe/Berlin:20260704T200000
DTEND;TZID=Europe/Berlin:20260704T235900
DTSTAMP:20260421T123201
CREATED:20260202T113613Z
LAST-MODIFIED:20260202T113613Z
UID:537-1783195200-1783209540@die-huengheimer.de
SUMMARY:Gartenfest Neckarelz
DESCRIPTION:Veranstaltungsort: Neckarwiese
URL:https://die-huengheimer.de/termin/gartenfest-neckarelz/
END:VEVENT
BEGIN:VEVENT
DTSTART;TZID=Europe/Berlin:20260706T200000
DTEND;TZID=Europe/Berlin:20260706T235900
DTSTAMP:20260421T123201
CREATED:20260202T113613Z
LAST-MODIFIED:20260202T113613Z
UID:538-1783368000-1783382340@die-huengheimer.de
SUMMARY:Sportfest TSV Rosenberg
DESCRIPTION:Veranstaltungsort: Sportgelände
URL:https://die-huengheimer.de/termin/sportfest-tsv-rosenberg/
END:VEVENT
BEGIN:VEVENT
DTSTART;TZID=Europe/Berlin:20260711T200000
DTEND;TZID=Europe/Berlin:20260711T235900
DTSTAMP:20260421T123201
CREATED:20260202T113614Z
LAST-MODIFIED:20260202T113614Z
UID:539-1783800000-1783814340@die-huengheimer.de
SUMMARY:100 Jahre TSV Bobstadt
DESCRIPTION:Veranstaltungsort: Sportgelände
URL:https://die-huengheimer.de/termin/100-jahre-tsv-bobstadt/
END:VEVENT
BEGIN:VEVENT
DTSTART;TZID=Europe/Berlin:20260720T120000
DTEND;TZID=Europe/Berlin:20260720T180000
DTSTAMP:20260421T123201
CREATED:20260202T113614Z
LAST-MODIFIED:20260202T113614Z
UID:540-1784548800-1784570400@die-huengheimer.de
SUMMARY:Kirmes Langd
DESCRIPTION:Veranstaltungsort: Hungen-Langd
URL:https://die-huengheimer.de/termin/kirmes-langd/
END:VEVENT
BEGIN:VEVENT
DTSTART;TZID=Europe/Berlin:20260731T200000
DTEND;TZID=Europe/Berlin:20260731T235900
DTSTAMP:20260421T123201
CREATED:20260202T113649Z
LAST-MODIFIED:20260202T113649Z
UID:541-1785528000-1785542340@die-huengheimer.de
SUMMARY:Sportplatzfest Dörrenzimmern
DESCRIPTION:Veranstaltungsort: Sportgelände
URL:https://die-huengheimer.de/termin/sportplatzfest-doerrenzimmern/
END:VEVENT
BEGIN:VEVENT
DTSTART;TZID=Europe/Berlin:20260808T200000
DTEND;TZID=Europe/Berlin:20260808T235900
DTSTAMP:20260421T123201
CREATED:20260202T113649Z
LAST-MODIFIED:20260202T113649Z
UID:542-1786219200-1786233540@die-huengheimer.de
SUMMARY:Dorffest Schleierhof
DESCRIPTION:Veranstaltungsort: Open Air Schleierhof
URL:https://die-huengheimer.de/termin/dorffest-schleierhof/
END:VEVENT
BEGIN:VEVENT
DTSTART;TZID=Europe/Berlin:20260912T200000
DTEND;TZID=Europe/Berlin:20260912T235900
DTSTAMP:20260421T123201
CREATED:20260202T113649Z
LAST-MODIFIED:20260202T113649Z
UID:543-1789243200-1789257540@die-huengheimer.de
SUMMARY:Jubiläumsfest 850 Jahre Gommersdorf
DESCRIPTION:Veranstaltungsort: Gemeindehalle
URL:https://die-huengheimer.de/termin/jubilaeumsfest-850-jahre-gommersdorf/
END:VEVENT
BEGIN:VEVENT
DTSTART;TZID=Europe/Berlin:20261016T200000
DTEND;TZID=Europe/Berlin:20261016T235900
DTSTAMP:20260421T123201
CREATED:20260202T113650Z
LAST-MODIFIED:20260202T113650Z
UID:544-1792180800-1792195140@die-huengheimer.de
SUMMARY:Oktoberfest VfB Sennfeld
DESCRIPTION:Veranstaltungsort: Festhalle
URL:https://die-huengheimer.de/termin/oktoberfest-vfb-sennfeld/
END:VEVENT
BEGIN:VEVENT
DTSTART;TZID=Europe/Berlin:20261024T200000
DTEND;TZID=Europe/Berlin:20261024T235900
DTSTAMP:20260421T123201
CREATED:20260202T113650Z
LAST-MODIFIED:20260202T113650Z
UID:545-1792872000-1792886340@die-huengheimer.de
SUMMARY:Hüngheimer WeinNachtMusik
DESCRIPTION:Veranstaltungsort: Alte Schule Hüngheim
URL:https://die-huengheimer.de/termin/huengheimer-weinnachtmusik/
END:VEVENT
BEGIN:VEVENT
DTSTART;TZID=Europe/Berlin:20261106T200000
DTEND;TZID=Europe/Berlin:20261106T235900
DTSTAMP:20260421T123201
CREATED:20260202T113659Z
LAST-MODIFIED:20260202T113659Z
UID:546-1793995200-1794009540@die-huengheimer.de
SUMMARY:20 Jahre Weinfest Schlierstadt
DESCRIPTION:Veranstaltungsort: Mehrzweckhalle
URL:https://die-huengheimer.de/termin/20-jahre-weinfest-schlierstadt/
END:VEVENT
END:VCALENDAR